BEGIN:VCALENDAR
VERSION:2.0
PRODID:-//Debis Design Diary - ECPv6.15.20//NONSGML v1.0//EN
CALSCALE:GREGORIAN
METHOD:PUBLISH
X-ORIGINAL-URL:https://debisdesigndiary.com
X-WR-CALDESC:Events for Debis Design Diary
REFRESH-INTERVAL;VALUE=DURATION:PT1H
X-Robots-Tag:noindex
X-PUBLISHED-TTL:PT1H
BEGIN:VTIMEZONE
TZID:America/Los_Angeles
BEGIN:DAYLIGHT
TZOFFSETFROM:-0800
TZOFFSETTO:-0700
TZNAME:PDT
DTSTART:20150308T100000
END:DAYLIGHT
BEGIN:STANDARD
TZOFFSETFROM:-0700
TZOFFSETTO:-0800
TZNAME:PST
DTSTART:20151101T090000
END:STANDARD
BEGIN:DAYLIGHT
TZOFFSETFROM:-0800
TZOFFSETTO:-0700
TZNAME:PDT
DTSTART:20160313T100000
END:DAYLIGHT
BEGIN:STANDARD
TZOFFSETFROM:-0700
TZOFFSETTO:-0800
TZNAME:PST
DTSTART:20161106T090000
END:STANDARD
BEGIN:DAYLIGHT
TZOFFSETFROM:-0800
TZOFFSETTO:-0700
TZNAME:PDT
DTSTART:20170312T100000
END:DAYLIGHT
BEGIN:STANDARD
TZOFFSETFROM:-0700
TZOFFSETTO:-0800
TZNAME:PST
DTSTART:20171105T090000
END:STANDARD
END:VTIMEZONE
BEGIN:VEVENT
DTSTART;TZID=America/Los_Angeles:20161006T110000
DTEND;TZID=America/Los_Angeles:20161006T130000
DTSTAMP:20260419T213830
CREATED:20160220T194153Z
LAST-MODIFIED:20160917T223544Z
UID:9927-1475751600-1475758800@debisdesigndiary.com
SUMMARY:Paint 101 @ House Vintage by Feeling Swell
DESCRIPTION:Paint 101- Bring in your own piece of furniture\, frame or knick knack. This item should be easily carried yourself.\nInstruction\, paint\, finishes and supplies will be furnished for you.  Payment is to be made at my website listed below.\n\nhttps://squareup.com/market/missypaintstheworld\n  \n 
URL:https://debisdesigndiary.com/event/paint-101-house-vintage-by-feeling-swell/
LOCATION:House Vintage\, 315 S Cedros Ave \, Solana Beach\, CA\, 92075\, United States
CATEGORIES:California
ORGANIZER;CN="Feeling Swell":MAILTO:Rlittlemissy@aol.com 
END:VEVENT
BEGIN:VEVENT
DTSTART;TZID=America/Los_Angeles:20160924T150000
DTEND;TZID=America/Los_Angeles:20160924T170000
DTSTAMP:20260419T213830
CREATED:20160626T200330Z
LAST-MODIFIED:20160918T220220Z
UID:12906-1474729200-1474736400@debisdesigndiary.com
SUMMARY:DIY Paint 101
DESCRIPTION:Instruction\, paint\, finishes and supplies will be furnished for you.  Payment is to be made at my website listed below.Learn the basics of DIY paint at this FREE class. Just bring a small piece of furniture\, RSVP to 760-566-6855 and purchase paint\, sealer\, sponge\, sanding block and brush at San Marcos Antique Village. You’ll learn 4-5 different techniques and have the knowledge to tackle all your other projects!\nhttp://www.simplyshabbyinteriors.com\n\n\n  \n 
URL:https://debisdesigndiary.com/event/paint-101/
LOCATION:San Marcos Antique Village\,  850 Los Vallecitos Blvd \, San Marcos\, CA\, 92069\, United States
CATEGORIES:California
END:VEVENT
END:VCALENDAR